BEGIN:VCALENDAR
VERSION:2.0
PRODID:-//Salesianos Barahona - ECPv6.10.0//NONSGML v1.0//EN
CALSCALE:GREGORIAN
METHOD:PUBLISH
X-ORIGINAL-URL:https://salesianosbarahona.com.do
X-WR-CALDESC:Eventos para Salesianos Barahona
REFRESH-INTERVAL;VALUE=DURATION:PT1H
X-Robots-Tag:noindex
X-PUBLISHED-TTL:PT1H
BEGIN:VTIMEZONE
TZID:America/Santo_Domingo
BEGIN:STANDARD
TZOFFSETFROM:-0400
TZOFFSETTO:-0400
TZNAME:AST
DTSTART:20250101T000000
END:STANDARD
END:VTIMEZONE
BEGIN:VEVENT
DTSTART;TZID=America/Santo_Domingo:20250307T190000
DTEND;TZID=America/Santo_Domingo:20250307T190000
DTSTAMP:20260420T120919
CREATED:20250221T141014Z
LAST-MODIFIED:20250619T135621Z
UID:1059-1741374000-1741374000@salesianosbarahona.com.do
SUMMARY:Premio provincial de la Juventud
DESCRIPTION:Barahona se prepara para celebrar la 5ta edición del Premio Provincial de la Juventud\, una iniciativa organizada por la obra Salesianos Barahona\, que busca reconocer y exaltar el talento\, esfuerzo y compromiso de los jóvenes en diversas áreas del desarrollo social. \nEste año\, el evento se llevará a cabo bajo el lema «Fomento a los derechos de la mujer. dominicana»\, destacando la importancia de la igualdad de género y el empoderamiento femenino en la sociedad. La premiación resaltará los logros de la juventud en educación\, salud\, deportes\, cultura y aportes a la comunidad\, promoviendo un sentido de identidad y pertenencia cultural en la República Dominicana. \nFECHA: 7 de marzo 2025\nHORA: 7:00 PM\nLUGAR: Recinto UASD Barahona
URL:https://salesianosbarahona.com.do/event/premio-provincial-de-la-juventud/
LOCATION:Recinto UASD Barahona
ATTACH;FMTTYPE=image/jpeg:https://salesianosbarahona.com.do/wp-content/uploads/2025/02/2733c99d-bf51-49d7-9a28-0ecfad94de80.jpeg
END:VEVENT
BEGIN:VEVENT
DTSTART;TZID=America/Santo_Domingo:20260329T070000
DTEND;TZID=America/Santo_Domingo:20260405T190000
DTSTAMP:20260420T120919
CREATED:20260415T150937Z
LAST-MODIFIED:20260415T150937Z
UID:1471-1774767600-1775415600@salesianosbarahona.com.do
SUMMARY:Semana Santa Parroquial 2026
DESCRIPTION:La Semana Santa en la Parroquia Cristo Rey fue un tiempo de profunda fe\, recogimiento y encuentro con Dios. Como comunidad\, vivimos cada momento del Triduo Pascual con solemnidad y esperanza: desde el servicio entregado en el Jueves Santo\, el silencio y la reflexión del Viernes Santo\, hasta la alegría renovadora de la Vigilia Pascual. \nFueron días en lo que la comunidad eclesial se unieron en oración\, celebraciones y actividades que fortalecieron nuestro compromiso cristiano católico. A través de cada signo y gesto\, recordamos el sacrificio de Jesús y renovamos nuestra fe en su Resurrección. \nUna experiencia que nos invita a seguir caminando como comunidad\, siendo luz y testimonio vivo del amor de Cristo en medio del mundo. \n\n		\n		\n			\n				\n			\n			\n				\n			\n			\n				\n			\n			\n				\n			\n			\n				\n			\n			\n				\n			\n			\n				\n			\n			\n				\n			\n			\n				\n			\n			\n				\n			\n			\n				\n			\n			\n				\n			\n			\n				\n			\n			\n				\n			\n			\n				\n			\n			\n				\n			\n			\n				\n			\n			\n				\n			\n			\n				\n			\n			\n				\n			\n			\n				\n			\n			\n				\n			\n			\n				\n			\n			\n				\n			\n			\n				\n			\n			\n				\n			\n			\n				\n			\n			\n				\n			\n			\n		\n\n 
URL:https://salesianosbarahona.com.do/event/semana-santa-parroquial-2026/
LOCATION:Parroquia Cristo Rey\, P. Camilo Boesmans #170\, Barahona\, Dominican Republic
ATTACH;FMTTYPE=image/jpeg:https://salesianosbarahona.com.do/wp-content/uploads/2026/04/PHOTO-2026-03-29-14-42-29.jpg
END:VEVENT
BEGIN:VEVENT
DTSTART;TZID=America/Santo_Domingo:20260329T070000
DTEND;TZID=America/Santo_Domingo:20260405T190000
DTSTAMP:20260420T120919
CREATED:20260415T173950Z
LAST-MODIFIED:20260415T174743Z
UID:1507-1774767600-1775415600@salesianosbarahona.com.do
SUMMARY:Pascua Infantil y Juvenil 2026
DESCRIPTION:La vivencia de la Pascua Juvenil e Infantil 2026 en el Oratorio Centro Juvenil Cristo Rey Barahona\, bajo el lema “Bautízame Señor: niños y jóvenes enviados a servir”\, fue un espacio de encuentro\, formación y crecimiento espiritual para toda la comunidad. \nDurante estos días\, niños y jóvenes participaron activamente en dinámicas\, momentos de oración\, celebraciones litúrgicas y reflexiones que les permitieron profundizar en el significado del misterio pascual. A través de cada experiencia\, fueron llamados a reconocer el amor de Dios en sus vidas y a renovar su compromiso bautismal\, asumiendo con alegría su misión de servir a los demás. \nEsta Pascua se convirtió en una verdadera escuela de fe\, donde\, guiados por animadores tanto de nuestro OCJ y de las Hijas de María Auxiliadora ( FMA)\,  fortalecieron valores como la solidaridad\, la fraternidad y el servicio\, descubriendo que seguir a Cristo implica ser testigos vivos de su Resurrección en lo cotidiano. \nSin duda\, una experiencia transformadora que impulsa a nuestros niños y jóvenes a vivir con entusiasmo su fe y a ser protagonistas de una Iglesia viva\, alegre y comprometida con su entorno. \n\n		\n		\n			\n				\n			\n			\n				\n			\n			\n				\n			\n			\n				\n			\n			\n				\n			\n			\n				\n			\n			\n				\n			\n			\n				\n			\n			\n				\n			\n			\n				\n			\n			\n				\n			\n			\n				\n			\n			\n				\n			\n			\n				\n			\n			\n				\n			\n			\n				\n			\n			\n				\n			\n			\n				\n			\n			\n				\n			\n			\n				\n			\n			\n				\n			\n			\n				\n			\n			\n				\n			\n			\n				\n			\n			\n				\n			\n			\n				\n			\n			\n		\n\n  \n 
URL:https://salesianosbarahona.com.do/event/pascua-infantil-y-juvenil-2026/
LOCATION:Fundación Sur Joven
ATTACH;FMTTYPE=image/jpeg:https://salesianosbarahona.com.do/wp-content/uploads/2026/04/PHOTO-2026-03-31-13-20-37.jpg
END:VEVENT
END:VCALENDAR